Workbook

Sheet ③預かり保育請求書代理受領 (町外施設ver.)
AW2: 請求日 | BB2: 令和８年 月 日
B3: （宛先）みやき町長
A4: 施設等利用費請求書
A5: （幼稚園等預かり保育事業：法定代理受領）
A6: 幼稚園が施設等利用給付認定保護者に代わって預かり保育事業の 施設等利用費を代理受領する場合
T8: 【 | V8: ='②請求金額内訳書（町外ver.)'!R1 -> 令和 | AA8: ='②請求金額内訳書（町外ver.)'!S1 -> 8 | AE8: 年 | AH8: ='②請求金額内訳書（町外ver.)'!U1 -> 10 | AL8: 月分】
C9: 私（請求者）は、特定子ども・子育て支援提供者として、子ども・子育て支援法第３０条の１１第３項の規定に基づき、みやき町に居住している施設等利用給付認定保護者に代わり、施設等利用費を下記の通り申請します。 なお、施設等利用費の審査及び支払いにあたり、次の事項に同意します。
D13: １． | G13: 実際の利用状況等についてみやき町が施設等利用給付認定保護者に確認すること。
D14: ２． | G14: 利用料の請求・支払い状況をみやき町が施設等利用給付認定保護者に確認すること。
D15: ３． | G15: みやき町の要請・質問等に対応すること。
D16: ４． | G16: 入園児の異動があった場合は、速やかにみやき町に報告すること。
B18: １．特定子ども・子育て支援提供者（請求者）
B19: フリガナ | AK19: 請求者の 所属法人
B20: 特定子ども・子育て支援提供者氏名 (請求者) | AH20: 印
AK21: 請求者の 役職名等
B23: 2．特定子ども・子育て支援施設・事業所
B24: フリガナ | AK24: 所在地 | AS24: 〒
B25: 幼稚園等の名称 | AK25: (市外の場合のみ記入)
AS27: 電話：
B28: フリガナ | AK28: 所在地 | AS28: 〒
B29: 幼稚園等の 運営団体名 | AK29: (市外の場合のみ記入)
AS31: 電話：
B32: 3．施設等利用費請求金額
B33: 請求する 年月分 | J33: ='②請求金額内訳書（町外ver.)'!R1 -> 令和 | N33: ='②請求金額内訳書（町外ver.)'!S1 -> 8 | Q33: 年 | S33: ='②請求金額内訳書（町外ver.)'!U1 -> 10 | V33: 月分 | Z33: 請求金額 | AK33: ='②請求金額内訳書（町外ver.)'!L40 -> 0 | AY33: 円
B35: 4．施設等利用費請求金額の内訳
D36: 別紙「施設等利用費請求金額内訳書」のとおり
B37: 5．振込先(※1)
B38: 金融機関名 | AK38: 預金種目 | AU38: □ | AW38: 普通 | BC38: □ | BE38: 当座
N39: 銀行・信用金庫 | AG39: 支店 | AK39: 口座番号
N40: 農協・信用組合 | AG40: 出張所 | AK40: 口座名義(カタカナ)
B41: ※1 | E41: 請求者と同じ口座名義の振込先を指定してください。

Sheet ②請求金額内訳書（町外ver.)
A1: 施設等利用費請求金額内訳書(預かり保育利用料） | Q1: 【 | R1: ='①内訳書（日別）(町外ver.)'!AN1 -> 令和 | S1: ='①内訳書（日別）(町外ver.)'!AO1 -> 8 | T1: 年 | U1: ='①内訳書（日別）(町外ver.)'!AQ1 -> 10 | V1: 月分】
A3: ※施設等利用費請求金額の内訳となる認定子ども全員について記入（みやき町居住子どものみ）
A4: ※１ 利用料は、日用品、文房具、行事参加費、食材料費、通園送迎費等の特定子ども・子育て支援利用料に含まれない徴収金額を除いた金額を入力してください。
A5: ※２ 月額上限額は、認定種別が新２号の場合は１２，３００円、新３号の場合は１７，７００円となります。
A6: Ｎｏ． | B6: 年齢 | C6: 生年月日 | J6: 児童氏名 | K6: 認定種別 | L6: 請求額 | N6: 請求額の算定根拠
N7: 利用料※1 | P7: 利用日数 | R7: 対象額 | T7: 利用料上限額 | V7: 月額上限額※２
B8: 4/1時点 | N8: (a) | P8: (b) | R8: (c=b×490円) | T8: (d) | V8: (e) | Z8: 認定種別
L9: (dとeを比較して低い方） | T9: (aとcを比較して低い方）
A10: 1 | B10: ='①内訳書（日別）(町外ver.)'!B9 | C10: ='①内訳書（日別）(町外ver.)'!C9 -> 令和 | D10: ='①内訳書（日別）(町外ver.)'!D9 -> 0 | E10: 年 | F10: ='①内訳書（日別）(町外ver.)'!F9 -> 0 | G10: 月 | H10: ='①内訳書（日別）(町外ver.)'!H9 -> 0 | I10: 日 | J10: ='①内訳書（日別）(町外ver.)'!L9 -> 0 | L10: =MIN(T10,V10) -> 0 | M10: 円 | N10: ='①内訳書（日別）(町外ver.)'!AR9 -> 0 | O10: 円 | P10: ='①内訳書（日別）(町外ver.)'!AS9 -> 0 | Q10: 日 | R10: =P10*490 -> 0 | S10: 円 | T10: =MIN(N10,R10) -> 0 | U10: 円 | V10: =IF(K10="新3号",17700,12300) -> 12300 | W10: 円 | Z10: 新2号
A11: 2 | B11: ='①内訳書（日別）(町外ver.)'!B10 | C11: =$C$10 -> 令和 | D11: ='①内訳書（日別）(町外ver.)'!D10 -> 0 | E11: 年 | F11: ='①内訳書（日別）(町外ver.)'!F10 -> 0 | G11: 月 | H11: ='①内訳書（日別）(町外ver.)'!H10 -> 0 | I11: 日 | J11: ='①内訳書（日別）(町外ver.)'!L10 -> 0 | L11: =MIN(T11,V11) -> 0 | M11: 円 | N11: ='①内訳書（日別）(町外ver.)'!AR10 -> 0 | O11: 円 | P11: ='①内訳書（日別）(町外ver.)'!AS10 -> 0 | Q11: 日 | R11: =P11*490 -> 0 | S11: 円 | T11: =MIN(N11,R11) -> 0 | U11: 円 | V11: =IF(K11="新3号",17700,12300) -> 12300 | W11: 円 | Z11: 新3号
A12: 3 | B12: ='①内訳書（日別）(町外ver.)'!B11 | C12: =$C$10 -> 令和 | D12: ='①内訳書（日別）(町外ver.)'!D11 -> 0 | E12: 年 | F12: ='①内訳書（日別）(町外ver.)'!F11 -> 0 | G12: 月 | H12: ='①内訳書（日別）(町外ver.)'!H11 -> 0 | I12: 日 | J12: ='①内訳書（日別）(町外ver.)'!L11 -> 0 | L12: =MIN(T12,V12) -> 0 | M12: 円 | N12: ='①内訳書（日別）(町外ver.)'!AR11 -> 0 | O12: 円 | P12: ='①内訳書（日別）(町外ver.)'!AS11 -> 0 | Q12: 日 | R12: =P12*490 -> 0 | S12: 円 | T12: =MIN(N12,R12) -> 0 | U12: 円 | V12: =IF(K12="新3号",17700,12300) -> 12300 | W12: 円
A13: 4 | B13: ='①内訳書（日別）(町外ver.)'!B12 | C13: =$C$10 -> 令和 | D13: ='①内訳書（日別）(町外ver.)'!D12 -> 0 | E13: 年 | F13: ='①内訳書（日別）(町外ver.)'!F12 -> 0 | G13: 月 | H13: ='①内訳書（日別）(町外ver.)'!H12 -> 0 | I13: 日 | J13: ='①内訳書（日別）(町外ver.)'!L12 -> 0 | L13: =MIN(T13,V13) -> 0 | M13: 円 | N13: ='①内訳書（日別）(町外ver.)'!AR12 -> 0 | O13: 円 | P13: ='①内訳書（日別）(町外ver.)'!AS12 -> 0 | Q13: 日 | R13: =P13*490 -> 0 | S13: 円 | T13: =MIN(N13,R13) -> 0 | U13: 円 | V13: =IF(K13="新3号",17700,12300) -> 12300 | W13: 円
A14: 5 | B14: ='①内訳書（日別）(町外ver.)'!B13 | C14: =$C$10 -> 令和 | D14: ='①内訳書（日別）(町外ver.)'!D13 -> 0 | E14: 年 | F14: ='①内訳書（日別）(町外ver.)'!F13 -> 0 | G14: 月 | H14: ='①内訳書（日別）(町外ver.)'!H13 -> 0 | I14: 日 | J14: ='①内訳書（日別）(町外ver.)'!L13 -> 0 | L14: =MIN(T14,V14) -> 0 | M14: 円 | N14: ='①内訳書（日別）(町外ver.)'!AR13 -> 0 | O14: 円 | P14: ='①内訳書（日別）(町外ver.)'!AS13 -> 0 | Q14: 日 | R14: =P14*490 -> 0 | S14: 円 | T14: =MIN(N14,R14) -> 0 | U14: 円 | V14: =IF(K14="新3号",17700,12300) -> 12300 | W14: 円
A15: 6 | B15: ='①内訳書（日別）(町外ver.)'!B14 | C15: =$C$10 -> 令和 | D15: ='①内訳書（日別）(町外ver.)'!D14 -> 0 | E15: 年 | F15: ='①内訳書（日別）(町外ver.)'!F14 -> 0 | G15: 月 | H15: ='①内訳書（日別）(町外ver.)'!H14 -> 0 | I15: 日 | J15: ='①内訳書（日別）(町外ver.)'!L14 -> 0 | L15: =MIN(T15,V15) -> 0 | M15: 円 | N15: ='①内訳書（日別）(町外ver.)'!AR14 -> 0 | O15: 円 | P15: ='①内訳書（日別）(町外ver.)'!AS14 -> 0 | Q15: 日 | R15: =P15*490 -> 0 | S15: 円 | T15: =MIN(N15,R15) -> 0 | U15: 円 | V15: =IF(K15="新3号",17700,12300) -> 12300 | W15: 円
A16: 7 | B16: ='①内訳書（日別）(町外ver.)'!B15 | C16: =$C$10 -> 令和 | D16: ='①内訳書（日別）(町外ver.)'!D15 -> 0 | E16: 年 | F16: ='①内訳書（日別）(町外ver.)'!F15 -> 0 | G16: 月 | H16: ='①内訳書（日別）(町外ver.)'!H15 -> 0 | I16: 日 | J16: ='①内訳書（日別）(町外ver.)'!L15 -> 0 | L16: =MIN(T16,V16) -> 0 | M16: 円 | N16: ='①内訳書（日別）(町外ver.)'!AR15 -> 0 | O16: 円 | P16: ='①内訳書（日別）(町外ver.)'!AS15 -> 0 | Q16: 日 | R16: =P16*490 -> 0 | S16: 円 | T16: =MIN(N16,R16) -> 0 | U16: 円 | V16: =IF(K16="新3号",17700,12300) -> 12300 | W16: 円
A17: 8 | B17: ='①内訳書（日別）(町外ver.)'!B16 | C17: =$C$10 -> 令和 | D17: ='①内訳書（日別）(町外ver.)'!D16 -> 0 | E17: 年 | F17: ='①内訳書（日別）(町外ver.)'!F16 -> 0 | G17: 月 | H17: ='①内訳書（日別）(町外ver.)'!H16 -> 0 | I17: 日 | J17: ='①内訳書（日別）(町外ver.)'!L16 -> 0 | L17: =MIN(T17,V17) -> 0 | M17: 円 | N17: ='①内訳書（日別）(町外ver.)'!AR16 -> 0 | O17: 円 | P17: ='①内訳書（日別）(町外ver.)'!AS16 -> 0 | Q17: 日 | R17: =P17*490 -> 0 | S17: 円 | T17: =MIN(N17,R17) -> 0 | U17: 円 | V17: =IF(K17="新3号",17700,12300) -> 12300 | W17: 円
A18: 9 | B18: ='①内訳書（日別）(町外ver.)'!B17 | C18: =$C$10 -> 令和 | D18: ='①内訳書（日別）(町外ver.)'!D17 -> 0 | E18: 年 | F18: ='①内訳書（日別）(町外ver.)'!F17 -> 0 | G18: 月 | H18: ='①内訳書（日別）(町外ver.)'!H17 -> 0 | I18: 日 | J18: ='①内訳書（日別）(町外ver.)'!L17 -> 0 | L18: =MIN(T18,V18) -> 0 | M18: 円 | N18: ='①内訳書（日別）(町外ver.)'!AR17 -> 0 | O18: 円 | P18: ='①内訳書（日別）(町外ver.)'!AS17 -> 0 | Q18: 日 | R18: =P18*490 -> 0 | S18: 円 | T18: =MIN(N18,R18) -> 0 | U18: 円 | V18: =IF(K18="新3号",17700,12300) -> 12300 | W18: 円
A19: 10 | B19: ='①内訳書（日別）(町外ver.)'!B18 | C19: =$C$10 -> 令和 | D19: ='①内訳書（日別）(町外ver.)'!D18 -> 0 | E19: 年 | F19: ='①内訳書（日別）(町外ver.)'!F18 -> 0 | G19: 月 | H19: ='①内訳書（日別）(町外ver.)'!H18 -> 0 | I19: 日 | J19: ='①内訳書（日別）(町外ver.)'!L18 -> 0 | L19: =MIN(T19,V19) -> 0 | M19: 円 | N19: ='①内訳書（日別）(町外ver.)'!AR18 -> 0 | O19: 円 | P19: ='①内訳書（日別）(町外ver.)'!AS18 -> 0 | Q19: 日 | R19: =P19*490 -> 0 | S19: 円 | T19: =MIN(N19,R19) -> 0 | U19: 円 | V19: =IF(K19="新3号",17700,12300) -> 12300 | W19: 円
A20: 11 | B20: ='①内訳書（日別）(町外ver.)'!B19 | C20: =$C$10 -> 令和 | D20: ='①内訳書（日別）(町外ver.)'!D19 -> 0 | E20: 年 | F20: ='①内訳書（日別）(町外ver.)'!F19 -> 0 | G20: 月 | H20: ='①内訳書（日別）(町外ver.)'!H19 -> 0 | I20: 日 | J20: ='①内訳書（日別）(町外ver.)'!L19 -> 0 | L20: =MIN(T20,V20) -> 0 | M20: 円 | N20: ='①内訳書（日別）(町外ver.)'!AR19 -> 0 | O20: 円 | P20: ='①内訳書（日別）(町外ver.)'!AS19 -> 0 | Q20: 日 | R20: =P20*490 -> 0 | S20: 円 | T20: =MIN(N20,R20) -> 0 | U20: 円 | V20: =IF(K20="新3号",17700,12300) -> 12300 | W20: 円
A21: 12 | B21: ='①内訳書（日別）(町外ver.)'!B20 | C21: =$C$10 -> 令和 | D21: ='①内訳書（日別）(町外ver.)'!D20 -> 0 | E21: 年 | F21: ='①内訳書（日別）(町外ver.)'!F20 -> 0 | G21: 月 | H21: ='①内訳書（日別）(町外ver.)'!H20 -> 0 | I21: 日 | J21: ='①内訳書（日別）(町外ver.)'!L20 -> 0 | L21: =MIN(T21,V21) -> 0 | M21: 円 | N21: ='①内訳書（日別）(町外ver.)'!AR20 -> 0 | O21: 円 | P21: ='①内訳書（日別）(町外ver.)'!AS20 -> 0 | Q21: 日 | R21: =P21*490 -> 0 | S21: 円 | T21: =MIN(N21,R21) -> 0 | U21: 円 | V21: =IF(K21="新3号",17700,12300) -> 12300 | W21: 円
A22: 13 | B22: ='①内訳書（日別）(町外ver.)'!B21 | C22: =$C$10 -> 令和 | D22: ='①内訳書（日別）(町外ver.)'!D21 -> 0 | E22: 年 | F22: ='①内訳書（日別）(町外ver.)'!F21 -> 0 | G22: 月 | H22: ='①内訳書（日別）(町外ver.)'!H21 -> 0 | I22: 日 | J22: ='①内訳書（日別）(町外ver.)'!L21 -> 0 | L22: =MIN(T22,V22) -> 0 | M22: 円 | N22: ='①内訳書（日別）(町外ver.)'!AR21 -> 0 | O22: 円 | P22: ='①内訳書（日別）(町外ver.)'!AS21 -> 0 | Q22: 日 | R22: =P22*490 -> 0 | S22: 円 | T22: =MIN(N22,R22) -> 0 | U22: 円 | V22: =IF(K22="新3号",17700,12300) -> 12300 | W22: 円
A23: 14 | B23: ='①内訳書（日別）(町外ver.)'!B22 | C23: =$C$10 -> 令和 | D23: ='①内訳書（日別）(町外ver.)'!D22 -> 0 | E23: 年 | F23: ='①内訳書（日別）(町外ver.)'!F22 -> 0 | G23: 月 | H23: ='①内訳書（日別）(町外ver.)'!H22 -> 0 | I23: 日 | J23: ='①内訳書（日別）(町外ver.)'!L22 -> 0 | L23: =MIN(T23,V23) -> 0 | M23: 円 | N23: ='①内訳書（日別）(町外ver.)'!AR22 -> 0 | O23: 円 | P23: ='①内訳書（日別）(町外ver.)'!AS22 -> 0 | Q23: 日 | R23: =P23*490 -> 0 | S23: 円 | T23: =MIN(N23,R23) -> 0 | U23: 円 | V23: =IF(K23="新3号",17700,12300) -> 12300 | W23: 円
... A39: 30 | B39: ='①内訳書（日別）(町外ver.)'!B38 | C39: =$C$10 -> 令和 | D39: ='①内訳書（日別）(町外ver.)'!D38 -> 0 | E39: 年 | F39: ='①内訳書（日別）(町外ver.)'!F38 -> 0 | G39: 月 | H39: ='①内訳書（日別）(町外ver.)'!H38 -> 0 | I39: 日 | J39: ='①内訳書（日別）(町外ver.)'!L38 -> 0 | L39: =MIN(T39,V39) -> 0 | M39: 円 | N39: ='①内訳書（日別）(町外ver.)'!AR38 -> 0 | O39: 円 | P39: ='①内訳書（日別）(町外ver.)'!AS38 -> 0 | Q39: 日 | R39: =P39*490 -> 0 | S39: 円 | T39: =MIN(N39,R39) -> 0 | U39: 円 | V39: =IF(K39="新3号",17700,12300) -> 12300 | W39: 円
J40: =COUNTIF(J10:J39,≠0) -> 0 | K40: 人 | L40: =SUM(L10:L39) -> 0 | M40: 円

Sheet ①内訳書（日別）(町外ver.)
A1: 施設等利用費請求金額内訳書(預かり保育利用料） | AM1: 【 | AN1: 令和 | AO1: 8 | AP1: 年 | AQ1: 10 | AR1: 月分】 | AT1: =DATE(YEAR(TODAY())-(MONTH(TODAY())<4),4,1) -> 46113
A3: ※施設等利用費請求金額の内訳となる認定子ども全員について記入（みやき町居住子どものみ）
A4: ※各児童について、預かり保育を利用した日に利用料（現物給付により徴収しなかった分を含む）を入力してください。
A5: ※利用料は、日用品、文房具、行事参加費、食材料費、通園送迎費等の特定子ども・子育て支援利用料に含まれない徴収金額を除いた金額を入力してください。
A6: Ｎｏ． | B6: 年齢 | C6: 生年月日 | L6: 児童氏名 | M6: １日 | N6: ２日 | O6: ３日 | P6: ４日 | Q6: ５日 | R6: ６日 | S6: ７日 | T6: ８日 | U6: ９日 | V6: １０日 | W6: １１日 | X6: １２日 | Y6: １３日 | Z6: １４日 | AA6: １５日 | AB6: １６日 | AC6: １７日 | AD6: １８日 | AE6: １９日 | AF6: ２０日 | AG6: ２１日 | AH6: ２２日 | AI6: ２３日 | AJ6: ２４日 | AK6: ２５日 | AL6: ２６日 | AM6: ２７日 | AN6: ２８日 | AO6: ２９日 | AP6: ３０日 | AQ6: ３１日 | AR6: 利用料 合計 | AS6: 利用日数合計
B8: 4/1時点 | AU8: 年齢
A9: 1 | B9: =IF(L9="","",DATEDIF(K9,$AT$1,"Y")&"歳") | C9: 令和 | E9: 年 | G9: 月 | I9: 日 | J9: =C9&D9&E9&F9&G9&H9&I9 -> 令和年月日 | K9: =TEXT(J9,"yyyy/mm/dd") -> 令和年月日 | AR9: =SUM(M9:AQ9) -> 0 | AS9: =COUNT(M9:AQ9) -> 0 | AU9: 満3歳
A10: 2 | B10: =IF(L10="","",DATEDIF(K10,$AT$1,"Y")&"歳") | C10: 令和 | E10: 年 | G10: 月 | I10: 日 | J10: =C10&D10&E10&F10&G10&H10&I10 -> 令和年月日 | K10: =TEXT(J10,"yyyy/mm/dd") -> 令和年月日 | AR10: =SUM(M10:AQ10) -> 0 | AS10: =COUNT(M10:AQ10) -> 0 | AU10: 3歳
A11: 3 | B11: =IF(L11="","",DATEDIF(K11,$AT$1,"Y")&"歳") | C11: 令和 | E11: 年 | G11: 月 | I11: 日 | J11: =C11&D11&E11&F11&G11&H11&I11 -> 令和年月日 | K11: =TEXT(J11,"yyyy/mm/dd") -> 令和年月日 | AR11: =SUM(M11:AQ11) -> 0 | AS11: =COUNT(M11:AQ11) -> 0 | AU11: 4歳
A12: 4 | B12: =IF(L12="","",DATEDIF(K12,$AT$1,"Y")&"歳") | C12: 令和 | E12: 年 | G12: 月 | I12: 日 | J12: =C12&D12&E12&F12&G12&H12&I12 -> 令和年月日 | K12: =TEXT(J12,"yyyy/mm/dd") -> 令和年月日 | AR12: =SUM(M12:AQ12) -> 0 | AS12: =COUNT(M12:AQ12) -> 0 | AU12: 5歳
A13: 5 | B13: =IF(L13="","",DATEDIF(K13,$AT$1,"Y")&"歳") | C13: 令和 | E13: 年 | G13: 月 | I13: 日 | J13: =C13&D13&E13&F13&G13&H13&I13 -> 令和年月日 | K13: =TEXT(J13,"yyyy/mm/dd") -> 令和年月日 | AR13: =SUM(M13:AQ13) -> 0 | AS13: =COUNT(M13:AQ13) -> 0
A14: 6 | B14: =IF(L14="","",DATEDIF(K14,$AT$1,"Y")&"歳") | C14: 令和 | E14: 年 | G14: 月 | I14: 日 | J14: =C14&D14&E14&F14&G14&H14&I14 -> 令和年月日 | K14: =TEXT(J14,"yyyy/mm/dd") -> 令和年月日 | AR14: =SUM(M14:AQ14) -> 0 | AS14: =COUNT(M14:AQ14) -> 0
A15: 7 | B15: =IF(L15="","",DATEDIF(K15,$AT$1,"Y")&"歳") | C15: 令和 | E15: 年 | G15: 月 | I15: 日 | J15: =C15&D15&E15&F15&G15&H15&I15 -> 令和年月日 | K15: =TEXT(J15,"yyyy/mm/dd") -> 令和年月日 | AR15: =SUM(M15:AQ15) -> 0 | AS15: =COUNT(M15:AQ15) -> 0
A16: 8 | B16: =IF(L16="","",DATEDIF(K16,$AT$1,"Y")&"歳") | C16: 令和 | E16: 年 | G16: 月 | I16: 日 | J16: =C16&D16&E16&F16&G16&H16&I16 -> 令和年月日 | K16: =TEXT(J16,"yyyy/mm/dd") -> 令和年月日 | AR16: =SUM(M16:AQ16) -> 0 | AS16: =COUNT(M16:AQ16) -> 0
A17: 9 | B17: =IF(L17="","",DATEDIF(K17,$AT$1,"Y")&"歳") | C17: 令和 | E17: 年 | G17: 月 | I17: 日 | J17: =C17&D17&E17&F17&G17&H17&I17 -> 令和年月日 | K17: =TEXT(J17,"yyyy/mm/dd") -> 令和年月日 | AR17: =SUM(M17:AQ17) -> 0 | AS17: =COUNT(M17:AQ17) -> 0
A18: 10 | B18: =IF(L18="","",DATEDIF(K18,$AT$1,"Y")&"歳") | C18: 令和 | E18: 年 | G18: 月 | I18: 日 | J18: =C18&D18&E18&F18&G18&H18&I18 -> 令和年月日 | K18: =TEXT(J18,"yyyy/mm/dd") -> 令和年月日 | AR18: =SUM(M18:AQ18) -> 0 | AS18: =COUNT(M18:AQ18) -> 0
A19: 11 | B19: =IF(L19="","",DATEDIF(K19,$AT$1,"Y")&"歳") | C19: 令和 | E19: 年 | G19: 月 | I19: 日 | J19: =C19&D19&E19&F19&G19&H19&I19 -> 令和年月日 | K19: =TEXT(J19,"yyyy/mm/dd") -> 令和年月日 | AR19: =SUM(M19:AQ19) -> 0 | AS19: =COUNT(M19:AQ19) -> 0
A20: 12 | B20: =IF(L20="","",DATEDIF(K20,$AT$1,"Y")&"歳") | C20: 令和 | E20: 年 | G20: 月 | I20: 日 | J20: =C20&D20&E20&F20&G20&H20&I20 -> 令和年月日 | K20: =TEXT(J20,"yyyy/mm/dd") -> 令和年月日 | AR20: =SUM(M20:AQ20) -> 0 | AS20: =COUNT(M20:AQ20) -> 0
A21: 13 | B21: =IF(L21="","",DATEDIF(K21,$AT$1,"Y")&"歳") | C21: 令和 | E21: 年 | G21: 月 | I21: 日 | J21: =C21&D21&E21&F21&G21&H21&I21 -> 令和年月日 | K21: =TEXT(J21,"yyyy/mm/dd") -> 令和年月日 | AR21: =SUM(M21:AQ21) -> 0 | AS21: =COUNT(M21:AQ21) -> 0
A22: 14 | B22: =IF(L22="","",DATEDIF(K22,$AT$1,"Y")&"歳") | C22: 令和 | E22: 年 | G22: 月 | I22: 日 | J22: =C22&D22&E22&F22&G22&H22&I22 -> 令和年月日 | K22: =TEXT(J22,"yyyy/mm/dd") -> 令和年月日 | AR22: =SUM(M22:AQ22) -> 0 | AS22: =COUNT(M22:AQ22) -> 0
A23: 15 | B23: =IF(L23="","",DATEDIF(K23,$AT$1,"Y")&"歳") | C23: 令和 | E23: 年 | G23: 月 | I23: 日 | J23: =C23&D23&E23&F23&G23&H23&I23 -> 令和年月日 | K23: =TEXT(J23,"yyyy/mm/dd") -> 令和年月日 | AR23: =SUM(M23:AQ23) -> 0 | AS23: =COUNT(M23:AQ23) -> 0
A24: 16 | B24: =IF(L24="","",DATEDIF(K24,$AT$1,"Y")&"歳") | C24: 令和 | E24: 年 | G24: 月 | I24: 日 | J24: =C24&D24&E24&F24&G24&H24&I24 -> 令和年月日 | K24: =TEXT(J24,"yyyy/mm/dd") -> 令和年月日 | AR24: =SUM(M24:AQ24) -> 0 | AS24: =COUNT(M24:AQ24) -> 0
... A38: 30 | B38: =IF(L38="","",DATEDIF(K38,$AT$1,"Y")&"歳") | C38: 令和 | E38: 年 | G38: 月 | I38: 日 | J38: =C38&D38&E38&F38&G38&H38&I38 -> 令和年月日 | K38: =TEXT(J38,"yyyy/mm/dd") -> 令和年月日 | AR38: =SUM(M38:AQ38) -> 0 | AS38: =COUNT(M38:AQ38) -> 0
L39: =COUNTA(L9:L38) -> 0

Sheet 預かり保育償還払い
AW2: 請求日 | BB2: 年 月 日
B3: みやき町長 様
A4: 施設等利用費請求書
A5: （幼稚園等預かり保育事業：償還払い）
A6: 幼稚園・認定こども園・特別支援学校幼稚部の預かり保育事業の施設等利用費
A7: 【 年 月～ 年 月分請求用】
C8: 私は、子ども・子育て支援法第３０条の１１第１項の規定に基づき、施設等利用費の給付について、下記の通り請求しますので、指定する償還払いの振込先口座に振り込んで下さい。 なお、施設等利用費の審査にあたり、次の事項に同意します。
D11: １． | G11: 申請者と認定子どもが、みやき町内に居住していることをみやき町が住民基本台帳で
G12: 確認すること。
D13: ２． | G13: 実際に利用していることをみやき町が対象施設に確認すること。
D14: ３． | G14: 利用料の支払い状況をみやき町が対象施設に確認すること。
D15: ４． | G15: 課税状況をみやき町が確認すること。
D16: ５． | G16: 世帯の状況など給付認定の内容に変更があった場合は、速やかに届出を行うこと。
B18: 以下、太枠内を確実に記入され、必要な書類を添付してください。。
B19: 1．施設等利用給付認定保護者(請求者)
B20: フリガナ | AA20: 認定 子どもとの 続柄 | AL20: 生年月日 | AZ20: 年 | BF20: 月 | BL20: 日
B21: 氏名 | Y21: 印 | AL21: 現住所
H23: ※振込先は申請者名義の口座です | AO23: 電話
B25: 2．認定子ども(認定子どもごとに申請して下さい)
B26: 法第30条の4の認定種別 | S26: □ | U26: 第2号 | Y26: □ | AA26: 第3号 | AF26: フリガナ
B27: 認定番号 | AF27: 氏名
B28: 生年月日 | S28: 年 | Y28: 月 | AD28: 日
B30: 3．在籍する幼稚園・認定こども園・特別支援学校について記入
B31: フリガナ | AF31: 所在地 | AM31: 〒
B32: 施設名称 | AF32: (市外の場合のみ記入)
AM33: 電話：
B34: 請求月の間の在籍状況 | AH34: 中途入退園の有無 | BC34: □ | BE34: 有
B36: 4．振込先(※1)
B37: 金融機関名 | AK37: 預金種目 | AU37: □ | AW37: 普通 | BC37: □ | BE37: 当座
N38: 銀行・信用金庫 | AG38: 支店 | AK38: 口座番号
N39: 農協・信用組合 | AG39: 出張所 | AK39: 口座名義(カタカナ)
B40: ※1 | E40: 申請者と同じ名義の口座をご記入ください。
AU42: ＜裏面も記入して下さい＞
B44: 5．在籍園の預かり保育事業以外に認可外保育施設等の利用費の償還払いを受けることができる場合のみ記入(※2）
D45: ※①～⑥に書き切れない数の施設・事業を利用した場合は、余白等に記載して下さい。
B46: ① | D46: フリガナ | AD46: 所在地 | AO46: 〒
D47: 施設・ 事業名
AO48: 電話：
B49: ② | D49: フリガナ | AD49: 所在地 | AO49: 〒
D50: 施設・ 事業名
AO51: 電話：
B52: ③ | D52: フリガナ | AD52: 所在地 | AO52: 〒
D53: 施設・ 事業名
AO54: 電話：
B55: ④ | D55: フリガナ | AD55: 所在地 | AO55: 〒
D56: 施設・ 事業名
AO57: 電話：
B58: ⑤ | D58: フリガナ | AD58: 所在地 | AO58: 〒
D59: 施設・ 事業名
AO60: 電話：
B61: ⑥ | D61: フリガナ | AD61: 所在地 | AO61: 〒
D62: 施設・ 事業名
AO63: 電話：
B64: ※2 | E64: 「在籍園の預かり保育事業以外に認可外保育施設等の利用費の償還払いを受けることができる場合」とは、在籍園の預かり保育事業が基準を満たさない場合（下欄◎）です。
B68: 6．在籍園の預かり保育事業と、認可外保育施設等の利用(※3参照)における施設等利用費の償還払い請求の内訳を記入
D69: 支払いは原則として毎年５月、８月、１１月、２月の25日に、それぞれの前月末日までに請求された利用料を支払います。振り込みについては、指定の口座をご確認ください。
B70: 利用年月 | M70: 在籍園の預かり保育事業 | AV70: 認可外保育施設等に支払った 金額(d) ※3 ※4 | BF70: 請求額 ※5 (「ｃ+ｄ」か月額上限額の低い方を記入)
M71: 施設に支払った金額(a) ※4 | W71: 利用 日数 | AB71: 対象額(b) (450×利用日数) | AL71: aとbの金額の 低い方を記入 (ｃ)
B73: 年 | K73: 月 | U73: 円 | Z73: 日 | AJ73: 円 | AT73: 円 | BD73: 円 | BN73: 円
B74: 年 | K74: 月 | U74: 円 | Z74: 日 | AJ74: 円 | AT74: 円 | BD74: 円 | BN74: 円
B75: 年 | K75: 月 | U75: 円 | Z75: 日 | AJ75: 円 | AT75: 円 | BD75: 円 | BN75: 円
B76: ※3 | E76: 「認可外保育施設等に支払った金額」は、在籍園の預かり保育が基準を満たさない場合のみ（下欄の◎）記入が可能です。
B78: ※4 | E78: 「支払った金額」を証明する領収証（口座振替の場合は通帳コピー等の確認ができる書類等）と特定子ども・子育て支援提供証明書を添付して下さい。
B80: ※5 | E80: 月額上限額は、法第30条の4の認定種別が第2号の場合は11,300円、第3号の場合は16,300円となります。「ｃ+ｄ」がこれを超える場合は、これらがそれぞれの月額上限額となります。
E83: ◎預かり保育の基準を満たさない場合とは
F84: 教育時間を含む平日の預かり保育の提供時間数が８時間未満又は年間（平日・長期休業中・休日の合計）開所日数200日未満の場合

Sheet 預かり保育償還払い (記入例)
AW2: 請求日 | BB2: 年 月 日
B3: みやき町長 様
A4: 施設等利用費請求書
A5: （幼稚園等預かり保育事業：償還払い）
A6: 幼稚園・認定こども園・特別支援学校幼稚部の預かり保育事業の施設等利用費
A7: 【 令和元 年 10 月～ 令和元 年 12 月分請求用】
C8: 私は、子ども・子育て支援法第３０条の１１第１項の規定に基づき、施設等利用費の給付について、下記の通り請求しますので、指定する償還払いの振込先口座に振り込んで下さい。 なお、施設等利用費の審査にあたり、次の事項に同意します。
D11: １． | G11: 申請者と認定子どもが、みやき町内に居住していることをみやき町が住民基本台帳で
G12: 確認すること。
D13: ２． | G13: 実際に利用していることをみやき町が対象施設に確認すること。
D14: ３． | G14: 利用料の支払い状況をみやき町が対象施設に確認すること。
D15: ４． | G15: 課税状況をみやき町が確認すること。
D16: ５． | G16: 世帯の状況など給付認定の内容に変更があった場合は、速やかに届出を行うこと。
B18: 以下、太枠内を確実に記入され、必要な書類を添付してください。。
B19: 1．施設等利用給付認定保護者(請求者)
B20: フリガナ | H20: ミヤキ タロウ | AA20: 認定 子どもとの 続柄 | AF20: 父 | AL20: 生年月日 | AS20: 昭和52 | AZ20: 年 | BB20: 5 | BF20: 月 | BH20: 20 | BL20: 日
B21: 氏名 | H21: みやき 太郎 | Y21: 印 | AL21: 現住所 | AO21: みやき町大字東尾1234番地 メゾン茂安101号
H23: ※振込先は申請者名義の口座です | AO23: 電話 | AS23: 090-1234-5678
B25: 2．認定子ども(認定子どもごとに申請して下さい)
B26: 法第30条の4の認定種別 | S26: □ | U26: 第2号 | Y26: □ | AA26: 第3号 | AF26: フリガナ | AN26: ミヤキ ダイスケ
B27: 認定番号 | AF27: 氏名 | AN27: みやき 大介
B28: 生年月日 | S28: 年 | Y28: 月 | AD28: 日
B30: 3．在籍する幼稚園・認定こども園・特別支援学校について記入
B31: フリガナ | K31: ミヤキヨウチエン | AF31: 所在地 | AM31: 〒
B32: 施設名称 | K32: みやき幼稚園 | AF32: (市外の場合のみ記入)
AM33: 電話：
B34: 請求月の間の在籍状況 | AH34: 中途入退園の有無 | BC34: □ | BE34: 有
B36: 4．振込先(※1)
B37: 金融機関名 | AK37: 預金種目 | AU37: □ | AW37: 普通 | BC37: □ | BE37: 当座
B38: みやき | N38: 銀行・信用金庫 | Y38: みやき | AG38: 支店 | AK38: 口座番号 | AU38: 1 | AX38: 2 | BA38: 3 | BD38: 4 | BG38: 5 | BJ38: 6 | BM38: 7
N39: 農協・信用組合 | AG39: 出張所 | AK39: 口座名義(カタカナ) | AU39: ミヤキ タロウ
B40: ※1 | E40: 申請者と同じ名義の口座をご記入ください。
AU42: ＜裏面も記入して下さい＞
B44: 5．在籍園の預かり保育事業以外に認可外保育施設等の利用費の償還払いを受けることができる場合のみ記入(※2）
D45: ※①～⑥に書き切れない数の施設・事業を利用した場合は、余白等に記載して下さい。
B46: ① | D46: フリガナ | AD46: 所在地 | AO46: 〒
D47: 施設・ 事業名
AO48: 電話：
B49: ② | D49: フリガナ | AD49: 所在地 | AO49: 〒
D50: 施設・ 事業名
AO51: 電話：
B52: ③ | D52: フリガナ | AD52: 所在地 | AO52: 〒
D53: 施設・ 事業名
AO54: 電話：
B55: ④ | D55: フリガナ | AD55: 所在地 | AO55: 〒
D56: 施設・ 事業名
AO57: 電話：
B58: ⑤ | D58: フリガナ | AD58: 所在地 | AO58: 〒
D59: 施設・ 事業名
AO60: 電話：
B61: ⑥ | D61: フリガナ | AD61: 所在地 | AO61: 〒
D62: 施設・ 事業名
AO63: 電話：
B64: ※2 | E64: 「在籍園の預かり保育事業以外に認可外保育施設等の利用費の償還払いを受けることができる場合」とは、在籍園の預かり保育事業が基準を満たさない場合（下欄◎）です。
B68: 6．在籍園の預かり保育事業と、認可外保育施設等の利用(※3参照)における施設等利用費の償還払い請求の内訳を記入
D69: 支払いは原則として毎年５月、８月、１１月、２月の25日に、それぞれの前月末日までに請求された利用料を支払います。振り込みについては、指定の口座をご確認ください。
B70: 利用年月 | M70: 在籍園の預かり保育事業 | AV70: 認可外保育施設等に支払った 金額(d) ※3 ※4 | BF70: 請求額 ※5 (「ｃ+ｄ」か月額上限額の低い方を記入)
M71: 施設に支払った金額(a) ※4 | W71: 利用 日数 | AB71: 対象額(b) (450×利用日数) | AL71: aとbの金額の 低い方を記入 (ｃ)
B73: 令和元年 | H73: 10 | K73: 月 | M73: 8250 | U73: 円 | W73: 15 | Z73: 日 | AJ73: 円 | AT73: 円 | BD73: 円 | BN73: 円
B74: 令和元年 | H74: 11 | K74: 月 | M74: 9900 | U74: 円 | W74: 18 | Z74: 日 | AJ74: 円 | AT74: 円 | BD74: 円 | BN74: 円
B75: 令和元年 | H75: 12 | K75: 月 | M75: 7150 | U75: 円 | W75: 13 | Z75: 日 | AJ75: 円 | AT75: 円 | BD75: 円 | BN75: 円
B76: ※3 | E76: 「認可外保育施設等に支払った金額」は、在籍園の預かり保育が基準を満たさない場合のみ（下欄の◎）記入が可能です。
B78: ※4 | E78: 「支払った金額」を証明する領収証（口座振替の場合は通帳コピー等の確認ができる書類等）と特定子ども・子育て支援提供証明書を添付して下さい。
B80: ※5 | E80: 月額上限額は、法第30条の4の認定種別が第2号の場合は11,300円、第3号の場合は16,300円となります。「ｃ+ｄ」がこれを超える場合は、これらがそれぞれの月額上限額となります。
E83: ◎預かり保育の基準を満たさない場合とは
F84: 教育時間を含む平日の預かり保育の提供時間数が８時間未満又は年間（平日・長期休業中・休日の合計）開所日数200日未満の場合

Sheet 預かり保育代理受領（白紙）
AW2: 請求日 | BB2: 年 月 日
B3: （宛先）みやき町長
A4: 施設等利用費請求書
A5: （幼稚園等預かり保育事業：法定代理受領）
A6: 幼稚園が施設等利用給付認定保護者に代わって預かり保育事業の 施設等利用費を代理受領する場合
A8: 【 年 月分】
C9: 私（請求者）は、特定子ども・子育て支援提供者として、子ども・子育て支援法第３０条の１１第３項の規定に基づき、みやき町に居住している施設等利用給付認定保護者に代わり、施設等利用費を下記の通り申請します。 なお、施設等利用費の審査及び支払いにあたり、次の事項に同意します。
D13: １． | G13: 実際の利用状況等についてみやき町が施設等利用給付認定保護者に確認すること。
D14: ２． | G14: 利用料の請求・支払い状況をみやき町が施設等利用給付認定保護者に確認すること。
D15: ３． | G15: みやき町の要請・質問等に対応すること。
D16: ４． | G16: 入園児の異動があった場合は、速やかにみやき町に報告すること。
B18: １．特定子ども・子育て支援提供者（請求者）
B19: フリガナ | AK19: 請求者の 所属法人
B20: 特定子ども・子育て支援提供者氏名 (請求者) | AH20: 印
AK21: 請求者の 役職名等
B23: 2．特定子ども・子育て支援施設・事業所
B24: フリガナ | AK24: 所在地 | AS24: 〒
B25: 幼稚園等の名称 | AK25: (市外の場合のみ記入)
AS27: 電話：
B28: フリガナ | AK28: 所在地 | AS28: 〒
B29: 幼稚園等の 運営団体名 | AK29: (市外の場合のみ記入)
AS31: 電話：
B32: 3．施設等利用費請求金額
B33: 請求する 年月分 | Q33: 年 | V33: 月分 | Z33: 請求金額 | AY33: 円
B35: 4．施設等利用費請求金額の内訳
D36: 別紙「施設等利用費請求金額内訳書」のとおり
B37: 5．振込先(※1)
B38: 金融機関名 | AK38: 預金種目 | AU38: □ | AW38: 普通 | BC38: □ | BE38: 当座
N39: 銀行・信用金庫 | AG39: 支店 | AK39: 口座番号
N40: 農協・信用組合 | AG40: 出張所 | AK40: 口座名義(カタカナ)
B41: ※1 | E41: 請求者と同じ口座名義の振込先を指定してください。
